BEGIN:VCALENDAR
VERSION:2.0
PRODID:-//BRF Pantern - ECPv5.2.1//NONSGML v1.0//EN
CALSCALE:GREGORIAN
METHOD:PUBLISH
X-WR-CALNAME:BRF Pantern
X-ORIGINAL-URL:https://pantern.hsbbrfwebb.se
X-WR-CALDESC:Events for BRF Pantern
BEGIN:VTIMEZONE
TZID:Europe/Paris
BEGIN:DAYLIGHT
TZOFFSETFROM:+0100
TZOFFSETTO:+0200
TZNAME:CEST
DTSTART:20180325T010000
END:DAYLIGHT
BEGIN:STANDARD
TZOFFSETFROM:+0200
TZOFFSETTO:+0100
TZNAME:CET
DTSTART:20181028T010000
END:STANDARD
END:VTIMEZONE
BEGIN:VEVENT
DTSTART;TZID=Europe/Paris:20180219T190000
DTEND;TZID=Europe/Paris:20180219T210000
DTSTAMP:20260419T151610
CREATED:20180117T101042Z
LAST-MODIFIED:20180117T101147Z
UID:1034-1519066800-1519074000@pantern.hsbbrfwebb.se
SUMMARY:Årsstämma
DESCRIPTION:Brf Pantern håller sin årliga stämma i föreningslokalen. Inbjudan delas ut till varje bostadsrättsinnehavare. Föreningen bjuder på smörgåstårta efter mötet.
URL:https://pantern.hsbbrfwebb.se/evenemang/arsstamma/
END:VEVENT
END:VCALENDAR